Package: pqsfinder Version: 2.22.0 Command: F:\biocbuild\bbs-3.20-bioc\R\bin\R.exe CMD check --no-multiarch --install=check:pqsfinder.install-out.txt --library=F:\biocbuild\bbs-3.20-bioc\R\library --no-vignettes --timings pqsfinder_2.22.0.tar.gz StartedAt: 2025-01-31 05:11:30 -0500 (Fri, 31 Jan 2025) EndedAt: 2025-01-31 05:14:53 -0500 (Fri, 31 Jan 2025) EllapsedTime: 202.7 seconds RetCode: 0 Status: OK CheckDir: pqsfinder.Rcheck Warnings: 0