Package: pqsfinder Version: 2.22.0 Command: /home/biocbuild/bbs-3.20-bioc/R/bin/R CMD INSTALL pqsfinder StartedAt: 2025-01-30 15:10:16 -0500 (Thu, 30 Jan 2025) EndedAt: 2025-01-30 15:10:57 -0500 (Thu, 30 Jan 2025) EllapsedTime: 40.7 seconds RetCode: 0 Status: OK