Package: pqsfinder Version: 2.22.0 Command: /home/biocbuild/bbs-3.20-bioc/R/bin/R CMD check --install=check:pqsfinder.install-out.txt --library=/home/biocbuild/bbs-3.20-bioc/R/site-library --timings pqsfinder_2.22.0.tar.gz StartedAt: 2025-01-31 01:08:36 -0500 (Fri, 31 Jan 2025) EndedAt: 2025-01-31 01:12:31 -0500 (Fri, 31 Jan 2025) EllapsedTime: 235.2 seconds RetCode: 0 Status: WARNINGS CheckDir: pqsfinder.Rcheck Warnings: 1