Package: pqsfinder Version: 2.22.0 Command: /Library/Frameworks/R.framework/Resources/bin/R CMD INSTALL pqsfinder StartedAt: 2025-01-30 15:16:25 -0500 (Thu, 30 Jan 2025) EndedAt: 2025-01-30 15:17:46 -0500 (Thu, 30 Jan 2025) EllapsedTime: 80.8 seconds RetCode: 0 Status: OK