Package: pqsfinder Version: 2.22.0 Command: /Library/Frameworks/R.framework/Resources/bin/R CMD check --install=check:pqsfinder.install-out.txt --library=/Library/Frameworks/R.framework/Resources/library --no-vignettes --timings pqsfinder_2.22.0.tar.gz StartedAt: 2025-01-31 08:13:06 -0500 (Fri, 31 Jan 2025) EndedAt: 2025-01-31 08:18:41 -0500 (Fri, 31 Jan 2025) EllapsedTime: 334.9 seconds RetCode: 0 Status: WARNINGS CheckDir: pqsfinder.Rcheck Warnings: 1