Package: pqsfinder Version: 2.22.0 Command: /Library/Frameworks/R.framework/Resources/bin/R CMD check --install=check:pqsfinder.install-out.txt --library=/Library/Frameworks/R.framework/Resources/library --no-vignettes --timings pqsfinder_2.22.0.tar.gz StartedAt: 2025-02-01 05:04:13 -0500 (Sat, 01 Feb 2025) EndedAt: 2025-02-01 05:07:37 -0500 (Sat, 01 Feb 2025) EllapsedTime: 204.2 seconds RetCode: 0 Status: WARNINGS CheckDir: pqsfinder.Rcheck Warnings: 1