Package: pogos Version: 1.26.0 Command: /home/biocbuild/bbs-3.20-bioc/R/bin/R CMD build --keep-empty-dirs --no-resave-data --md5 pogos StartedAt: 2025-01-30 18:36:29 -0500 (Thu, 30 Jan 2025) EndedAt: 2025-01-30 18:37:10 -0500 (Thu, 30 Jan 2025) EllapsedTime: 41.1 seconds RetCode: 1 Status: ERROR PackageFile: None PackageFileSize: NA