Package: pogos Version: 1.26.0 Command: /Library/Frameworks/R.framework/Resources/bin/R CMD build --keep-empty-dirs --no-resave-data pogos StartedAt: 2025-01-30 21:53:52 -0500 (Thu, 30 Jan 2025) EndedAt: 2025-01-30 21:55:28 -0500 (Thu, 30 Jan 2025) EllapsedTime: 95.8 seconds RetCode: 1 Status: ERROR PackageFile: None PackageFileSize: NA