Package: podkat Version: 1.38.0 Command: /home/biocbuild/R/R/bin/R CMD INSTALL podkat StartedAt: 2025-01-30 20:30:01 -0000 (Thu, 30 Jan 2025) EndedAt: 2025-01-30 20:31:40 -0000 (Thu, 30 Jan 2025) EllapsedTime: 98.9 seconds RetCode: 0 Status: OK