Package: podkat Version: 1.38.0 Command: /home/biocbuild/R/R/bin/R CMD build --keep-empty-dirs --no-resave-data podkat StartedAt: 2025-01-31 01:49:08 -0000 (Fri, 31 Jan 2025) EndedAt: 2025-01-31 01:52:05 -0000 (Fri, 31 Jan 2025) EllapsedTime: 177.2 seconds RetCode: 0 Status: OK PackageFile: podkat_1.38.0.tar.gz PackageFileSize: 1.069 MiB