Package: podkat Version: 1.38.0 Command: chmod a+r podkat -R && F:\biocbuild\bbs-3.20-bioc\R\bin\R.exe CMD build --keep-empty-dirs --no-resave-data podkat StartedAt: 2025-01-30 21:01:56 -0500 (Thu, 30 Jan 2025) EndedAt: 2025-01-30 21:07:00 -0500 (Thu, 30 Jan 2025) EllapsedTime: 304.3 seconds RetCode: 0 Status: OK PackageFile: podkat_1.38.0.tar.gz PackageFileSize: 1.012 MiB