Package: pmp Version: 1.18.0 Command: rm -rf pmp.buildbin-libdir && mkdir pmp.buildbin-libdir && /Users/biocbuild/BBS/utils/build-universal.sh pmp_1.18.0.tar.gz /Library/Frameworks/R.framework/Resources/bin/R pmp.buildbin-libdir StartedAt: 2025-01-31 13:23:54 -0500 (Fri, 31 Jan 2025) EndedAt: 2025-01-31 13:24:49 -0500 (Fri, 31 Jan 2025) EllapsedTime: 54.9 seconds RetCode: 0 Status: OK PackageFile: pmp_1.18.0.tgz PackageFileSize: 5.433 MiB