Package: pmm Version: 1.38.0 Command: /home/biocbuild/R/R/bin/R CMD check --install=check:pmm.install-out.txt --library=/home/biocbuild/R/R/site-library --no-vignettes --timings pmm_1.38.0.tar.gz StartedAt: 2025-01-31 09:12:17 -0000 (Fri, 31 Jan 2025) EndedAt: 2025-01-31 09:13:51 -0000 (Fri, 31 Jan 2025) EllapsedTime: 94.1 seconds RetCode: 0 Status: OK CheckDir: pmm.Rcheck Warnings: 0