Package: pmm Version: 1.38.0 Command: /Library/Frameworks/R.framework/Resources/bin/R CMD INSTALL pmm StartedAt: 2025-01-30 15:13:27 -0500 (Thu, 30 Jan 2025) EndedAt: 2025-01-30 15:13:53 -0500 (Thu, 30 Jan 2025) EllapsedTime: 26.9 seconds RetCode: 0 Status: OK