Package: plyranges Version: 1.26.0 Command: /home/biocbuild/R/R/bin/R CMD INSTALL plyranges StartedAt: 2025-01-30 20:23:59 -0000 (Thu, 30 Jan 2025) EndedAt: 2025-01-30 20:24:46 -0000 (Thu, 30 Jan 2025) EllapsedTime: 46.5 seconds RetCode: 0 Status: OK