Package: plyranges Version: 1.26.0 Command: /home/biocbuild/R/R/bin/R CMD build --keep-empty-dirs --no-resave-data plyranges StartedAt: 2025-01-31 01:48:15 -0000 (Fri, 31 Jan 2025) EndedAt: 2025-01-31 01:49:22 -0000 (Fri, 31 Jan 2025) EllapsedTime: 67.1 seconds RetCode: 0 Status: OK PackageFile: plyranges_1.26.0.tar.gz PackageFileSize: 1.299 MiB