Package: plyranges Version: 1.26.0 Command: F:\biocbuild\bbs-3.20-bioc\R\bin\R.exe CMD INSTALL plyranges StartedAt: 2025-01-30 16:04:22 -0500 (Thu, 30 Jan 2025) EndedAt: 2025-01-30 16:05:44 -0500 (Thu, 30 Jan 2025) EllapsedTime: 81.4 seconds RetCode: 0 Status: OK