Package: planet Version: 1.14.0 Command: /home/biocbuild/bbs-3.20-bioc/R/bin/R CMD build --keep-empty-dirs --no-resave-data --md5 planet StartedAt: 2025-01-30 18:35:19 -0500 (Thu, 30 Jan 2025) EndedAt: 2025-01-30 18:35:47 -0500 (Thu, 30 Jan 2025) EllapsedTime: 28.0 seconds RetCode: 0 Status: OK PackageFile: planet_1.14.0.tar.gz PackageFileSize: 2.764 MiB