Package: pipeComp Version: 1.16.0 Command: chmod a+r pipeComp -R && F:\biocbuild\bbs-3.20-bioc\R\bin\R.exe CMD build --keep-empty-dirs --no-resave-data pipeComp StartedAt: 2025-01-30 20:59:17 -0500 (Thu, 30 Jan 2025) EndedAt: 2025-01-30 21:02:35 -0500 (Thu, 30 Jan 2025) EllapsedTime: 197.5 seconds RetCode: 0 Status: OK PackageFile: pipeComp_1.16.0.tar.gz PackageFileSize: 2.802 MiB