Package: phyloseq Version: 1.50.0 Command: /home/biocbuild/R/R/bin/R CMD build --keep-empty-dirs --no-resave-data phyloseq StartedAt: 2025-01-31 01:46:44 -0000 (Fri, 31 Jan 2025) EndedAt: 2025-01-31 01:49:08 -0000 (Fri, 31 Jan 2025) EllapsedTime: 143.2 seconds RetCode: 0 Status: OK PackageFile: phyloseq_1.50.0.tar.gz PackageFileSize: 4.371 MiB