Package: phyloseq Version: 1.50.0 Command: /Library/Frameworks/R.framework/Resources/bin/R CMD INSTALL phyloseq StartedAt: 2025-01-30 16:23:04 -0500 (Thu, 30 Jan 2025) EndedAt: 2025-01-30 16:24:04 -0500 (Thu, 30 Jan 2025) EllapsedTime: 60.4 seconds RetCode: 0 Status: OK