Package: phyloseq Version: 1.50.0 Command: /Library/Frameworks/R.framework/Resources/bin/R CMD INSTALL phyloseq StartedAt: 2025-01-30 17:30:12 -0500 (Thu, 30 Jan 2025) EndedAt: 2025-01-30 17:30:41 -0500 (Thu, 30 Jan 2025) EllapsedTime: 29.1 seconds RetCode: 0 Status: OK