Package: philr Version: 1.32.0 Command: /home/biocbuild/R/R/bin/R CMD build --keep-empty-dirs --no-resave-data philr StartedAt: 2025-01-31 01:46:21 -0000 (Fri, 31 Jan 2025) EndedAt: 2025-01-31 01:47:08 -0000 (Fri, 31 Jan 2025) EllapsedTime: 46.1 seconds RetCode: 0 Status: OK PackageFile: philr_1.32.0.tar.gz PackageFileSize: 390.4 KiB