Package: philr Version: 1.32.0 Command: rm -rf philr.buildbin-libdir && mkdir philr.buildbin-libdir && F:\biocbuild\bbs-3.20-bioc\R\bin\R.exe CMD INSTALL --build --library=philr.buildbin-libdir philr_1.32.0.tar.gz StartedAt: 2025-01-31 09:16:34 -0500 (Fri, 31 Jan 2025) EndedAt: 2025-01-31 09:16:55 -0500 (Fri, 31 Jan 2025) EllapsedTime: 21.4 seconds RetCode: 0 Status: OK PackageFile: philr_1.32.0.zip PackageFileSize: 384.8 KiB