Package: philr Version: 1.32.0 Command: /Library/Frameworks/R.framework/Resources/bin/R CMD INSTALL philr StartedAt: 2025-01-30 15:47:31 -0500 (Thu, 30 Jan 2025) EndedAt: 2025-01-30 15:47:53 -0500 (Thu, 30 Jan 2025) EllapsedTime: 22.0 seconds RetCode: 0 Status: OK