Package: philr Version: 1.32.0 Command: /Library/Frameworks/R.framework/Resources/bin/R CMD check --install=check:philr.install-out.txt --library=/Library/Frameworks/R.framework/Resources/library --no-vignettes --timings philr_1.32.0.tar.gz StartedAt: 2025-01-31 08:00:56 -0500 (Fri, 31 Jan 2025) EndedAt: 2025-01-31 08:04:14 -0500 (Fri, 31 Jan 2025) EllapsedTime: 198.2 seconds RetCode: 0 Status: OK CheckDir: philr.Rcheck Warnings: 0