Package: phenopath Version: 1.30.0 Command: /home/biocbuild/R/R/bin/R CMD check --install=check:phenopath.install-out.txt --library=/home/biocbuild/R/R/site-library --no-vignettes --timings phenopath_1.30.0.tar.gz StartedAt: 2025-01-31 09:06:32 -0000 (Fri, 31 Jan 2025) EndedAt: 2025-01-31 09:09:45 -0000 (Fri, 31 Jan 2025) EllapsedTime: 193.2 seconds RetCode: 0 Status: OK CheckDir: phenopath.Rcheck Warnings: 0