Package: phenopath Version: 1.30.0 Command: /home/biocbuild/bbs-3.20-bioc/R/bin/R CMD INSTALL phenopath StartedAt: 2025-01-30 15:11:27 -0500 (Thu, 30 Jan 2025) EndedAt: 2025-01-30 15:11:59 -0500 (Thu, 30 Jan 2025) EllapsedTime: 31.3 seconds RetCode: 0 Status: OK