Package: phenomis Version: 1.8.0 Command: rm -rf phenomis.buildbin-libdir && mkdir phenomis.buildbin-libdir && /Users/biocbuild/BBS/utils/build-universal.sh phenomis_1.8.0.tar.gz /Library/Frameworks/R.framework/Resources/bin/R phenomis.buildbin-libdir StartedAt: 2025-02-01 16:11:03 -0500 (Sat, 01 Feb 2025) EndedAt: 2025-02-01 16:11:53 -0500 (Sat, 01 Feb 2025) EllapsedTime: 49.7 seconds RetCode: 0 Status: OK PackageFile: phenomis_1.8.0.tgz PackageFileSize: 3.97 MiB