Package: phantasusLite Version: 1.4.0 Command: /home/biocbuild/R/R/bin/R CMD INSTALL phantasusLite StartedAt: 2025-01-30 20:13:45 -0000 (Thu, 30 Jan 2025) EndedAt: 2025-01-30 20:14:06 -0000 (Thu, 30 Jan 2025) EllapsedTime: 21.3 seconds RetCode: 0 Status: OK