Package: phantasusLite Version: 1.4.0 Command: chmod a+r phantasusLite -R && F:\biocbuild\bbs-3.20-bioc\R\bin\R.exe CMD build --keep-empty-dirs --no-resave-data phantasusLite StartedAt: 2025-01-30 20:56:34 -0500 (Thu, 30 Jan 2025) EndedAt: 2025-01-30 20:57:28 -0500 (Thu, 30 Jan 2025) EllapsedTime: 54.6 seconds RetCode: 0 Status: OK PackageFile: phantasusLite_1.4.0.tar.gz PackageFileSize: 233.5 KiB