Package: periodicDNA Version: 1.16.0 Command: F:\biocbuild\bbs-3.20-bioc\R\bin\R.exe CMD check --no-multiarch --install=check:periodicDNA.install-out.txt --library=F:\biocbuild\bbs-3.20-bioc\R\library --no-vignettes --timings periodicDNA_1.16.0.tar.gz StartedAt: 2025-01-31 05:02:08 -0500 (Fri, 31 Jan 2025) EndedAt: 2025-01-31 05:09:21 -0500 (Fri, 31 Jan 2025) EllapsedTime: 433.3 seconds RetCode: 0 Status: WARNINGS CheckDir: periodicDNA.Rcheck Warnings: 1