Package: periodicDNA Version: 1.16.0 Command: /Library/Frameworks/R.framework/Resources/bin/R CMD build --keep-empty-dirs --no-resave-data periodicDNA StartedAt: 2025-01-31 05:17:36 -0500 (Fri, 31 Jan 2025) EndedAt: 2025-01-31 05:19:26 -0500 (Fri, 31 Jan 2025) EllapsedTime: 110.0 seconds RetCode: 0 Status: OK PackageFile: periodicDNA_1.16.0.tar.gz PackageFileSize: 2.962 MiB