Package: pdInfoBuilder Version: 1.70.0 Command: /home/biocbuild/R/R/bin/R CMD INSTALL pdInfoBuilder StartedAt: 2025-01-30 20:25:44 -0000 (Thu, 30 Jan 2025) EndedAt: 2025-01-30 20:26:24 -0000 (Thu, 30 Jan 2025) EllapsedTime: 39.4 seconds RetCode: 0 Status: OK