Package: pdInfoBuilder Version: 1.70.0 Command: chmod a+r pdInfoBuilder -R && F:\biocbuild\bbs-3.20-bioc\R\bin\R.exe CMD build --keep-empty-dirs --no-resave-data pdInfoBuilder StartedAt: 2025-01-30 20:52:13 -0500 (Thu, 30 Jan 2025) EndedAt: 2025-01-30 20:52:54 -0500 (Thu, 30 Jan 2025) EllapsedTime: 41.2 seconds RetCode: 0 Status: OK PackageFile: pdInfoBuilder_1.70.0.tar.gz PackageFileSize: 348.1 KiB