Package: pdInfoBuilder Version: 1.70.0 Command: /home/biocbuild/bbs-3.20-bioc/R/bin/R CMD INSTALL pdInfoBuilder StartedAt: 2025-01-30 15:21:09 -0500 (Thu, 30 Jan 2025) EndedAt: 2025-01-30 15:21:42 -0500 (Thu, 30 Jan 2025) EllapsedTime: 33.6 seconds RetCode: 0 Status: OK