Package: pdInfoBuilder Version: 1.70.0 Command: rm -rf pdInfoBuilder.buildbin-libdir && mkdir pdInfoBuilder.buildbin-libdir && /Users/biocbuild/BBS/utils/build-universal.sh pdInfoBuilder_1.70.0.tar.gz /Library/Frameworks/R.framework/Resources/bin/R pdInfoBuilder.buildbin-libdir StartedAt: 2025-02-01 16:09:56 -0500 (Sat, 01 Feb 2025) EndedAt: 2025-02-01 16:10:37 -0500 (Sat, 01 Feb 2025) EllapsedTime: 41.7 seconds RetCode: 0 Status: OK PackageFile: pdInfoBuilder_1.70.0.tgz PackageFileSize: 819.3 KiB