Package: pcaMethods Version: 1.98.0 Command: chmod a+r pcaMethods -R && F:\biocbuild\bbs-3.20-bioc\R\bin\R.exe CMD build --keep-empty-dirs --no-resave-data pcaMethods StartedAt: 2025-01-30 20:51:36 -0500 (Thu, 30 Jan 2025) EndedAt: 2025-01-30 20:54:12 -0500 (Thu, 30 Jan 2025) EllapsedTime: 155.6 seconds RetCode: 0 Status: OK PackageFile: pcaMethods_1.98.0.tar.gz PackageFileSize: 604.8 KiB