Package: pathwayPCA Version: 1.22.0 Command: /Library/Frameworks/R.framework/Resources/bin/R CMD check --install=check:pathwayPCA.install-out.txt --library=/Library/Frameworks/R.framework/Resources/library --no-vignettes --timings pathwayPCA_1.22.0.tar.gz StartedAt: 2025-02-01 04:17:27 -0500 (Sat, 01 Feb 2025) EndedAt: 2025-02-01 04:20:13 -0500 (Sat, 01 Feb 2025) EllapsedTime: 166.1 seconds RetCode: 0 Status: OK CheckDir: pathwayPCA.Rcheck Warnings: 0