Package: pathview Version: 1.46.0 Command: F:\biocbuild\bbs-3.20-bioc\R\bin\R.exe CMD INSTALL pathview StartedAt: 2025-01-30 15:45:40 -0500 (Thu, 30 Jan 2025) EndedAt: 2025-01-30 15:46:11 -0500 (Thu, 30 Jan 2025) EllapsedTime: 31.2 seconds RetCode: 0 Status: OK