Package: pathview Version: 1.46.0 Command: /Library/Frameworks/R.framework/Resources/bin/R CMD INSTALL pathview StartedAt: 2025-01-30 15:37:08 -0500 (Thu, 30 Jan 2025) EndedAt: 2025-01-30 15:37:50 -0500 (Thu, 30 Jan 2025) EllapsedTime: 41.7 seconds RetCode: 0 Status: OK