Package: pathview Version: 1.46.0 Command: /Library/Frameworks/R.framework/Resources/bin/R CMD check --install=check:pathview.install-out.txt --library=/Library/Frameworks/R.framework/Resources/library --no-vignettes --timings pathview_1.46.0.tar.gz StartedAt: 2025-01-31 07:52:39 -0500 (Fri, 31 Jan 2025) EndedAt: 2025-01-31 07:57:34 -0500 (Fri, 31 Jan 2025) EllapsedTime: 295.4 seconds RetCode: 0 Status: WARNINGS CheckDir: pathview.Rcheck Warnings: 1