Package: pathview Version: 1.46.0 Command: rm -rf pathview.buildbin-libdir && mkdir pathview.buildbin-libdir && /Users/biocbuild/BBS/utils/build-universal.sh pathview_1.46.0.tar.gz /Library/Frameworks/R.framework/Resources/bin/R pathview.buildbin-libdir StartedAt: 2025-01-31 13:21:46 -0500 (Fri, 31 Jan 2025) EndedAt: 2025-01-31 13:22:29 -0500 (Fri, 31 Jan 2025) EllapsedTime: 42.4 seconds RetCode: 0 Status: OK PackageFile: pathview_1.46.0.tgz PackageFileSize: 2.82 MiB