Package: partCNV Version: 1.4.0 Command: /Library/Frameworks/R.framework/Resources/bin/R CMD INSTALL partCNV StartedAt: 2025-01-30 16:17:11 -0500 (Thu, 30 Jan 2025) EndedAt: 2025-01-30 16:18:42 -0500 (Thu, 30 Jan 2025) EllapsedTime: 90.9 seconds RetCode: 0 Status: OK