Package: partCNV Version: 1.4.0 Command: /Library/Frameworks/R.framework/Resources/bin/R CMD check --install=check:partCNV.install-out.txt --library=/Library/Frameworks/R.framework/Resources/library --no-vignettes --timings partCNV_1.4.0.tar.gz StartedAt: 2025-01-31 07:50:01 -0500 (Fri, 31 Jan 2025) EndedAt: 2025-01-31 08:02:42 -0500 (Fri, 31 Jan 2025) EllapsedTime: 761.2 seconds RetCode: 0 Status: OK CheckDir: partCNV.Rcheck Warnings: 0