Package: panelcn.mops Version: 1.28.0 Command: /home/biocbuild/bbs-3.20-bioc/R/bin/R CMD build --keep-empty-dirs --no-resave-data --md5 panelcn.mops StartedAt: 2025-01-30 18:30:01 -0500 (Thu, 30 Jan 2025) EndedAt: 2025-01-30 18:30:31 -0500 (Thu, 30 Jan 2025) EllapsedTime: 30.1 seconds RetCode: 0 Status: OK PackageFile: panelcn.mops_1.28.0.tar.gz PackageFileSize: 610 KiB