Package: panelcn.mops Version: 1.28.0 Command: rm -rf panelcn.mops.buildbin-libdir && mkdir panelcn.mops.buildbin-libdir && /Users/biocbuild/BBS/utils/build-universal.sh panelcn.mops_1.28.0.tar.gz /Library/Frameworks/R.framework/Resources/bin/R panelcn.mops.buildbin-libdir StartedAt: 2025-02-01 16:08:53 -0500 (Sat, 01 Feb 2025) EndedAt: 2025-02-01 16:09:10 -0500 (Sat, 01 Feb 2025) EllapsedTime: 17.1 seconds RetCode: 0 Status: OK PackageFile: panelcn.mops_1.28.0.tgz PackageFileSize: 471.9 KiB