Package: paircompviz Version: 1.44.0 Command: chmod a+r paircompviz -R && F:\biocbuild\bbs-3.20-bioc\R\bin\R.exe CMD build --keep-empty-dirs --no-resave-data paircompviz StartedAt: 2025-01-30 20:47:13 -0500 (Thu, 30 Jan 2025) EndedAt: 2025-01-30 20:47:51 -0500 (Thu, 30 Jan 2025) EllapsedTime: 38.5 seconds RetCode: 0 Status: OK PackageFile: paircompviz_1.44.0.tar.gz PackageFileSize: 356.3 KiB