Package: pageRank Version: 1.16.0 Command: /home/biocbuild/bbs-3.20-bioc/R/bin/R CMD INSTALL pageRank StartedAt: 2025-01-30 15:25:03 -0500 (Thu, 30 Jan 2025) EndedAt: 2025-01-30 15:25:43 -0500 (Thu, 30 Jan 2025) EllapsedTime: 39.6 seconds RetCode: 0 Status: OK