Package: padma Version: 1.16.0 Command: /home/biocbuild/bbs-3.20-bioc/R/bin/R CMD build --keep-empty-dirs --no-resave-data --md5 padma StartedAt: 2025-01-30 18:28:15 -0500 (Thu, 30 Jan 2025) EndedAt: 2025-01-30 18:30:01 -0500 (Thu, 30 Jan 2025) EllapsedTime: 106.2 seconds RetCode: 0 Status: OK PackageFile: padma_1.16.0.tar.gz PackageFileSize: 1.386 MiB